BEGIN:VCALENDAR
VERSION:2.0
PRODID:Missa - Dia Mundial da Paz
X-WR-CALNAME:Missa - Dia Mundial da Paz
X-WR-TIMEZONE:Europe/Lisbon
X-PUBLISHED-TTL:P1W
BEGIN:VTIMEZONE
TZID:Europe/Lisbon
X-LIC-LOCATION:Europe/Lisbon
END:VTIMEZONE
BEGIN:VEVENT
UID:69e7faf15f141
DTSTART;VALUE=DATE:20260101
SEQUENCE:0
TRANSP:OPAQUE
DTEND;VALUE=DATE:20260102
SUMMARY:Missa - Dia Mundial da Paz
CLASS:PUBLIC
DESCRIPTION:Celebração religiosa no Santuário de Nossa Senhora da Paz
X-MICROSOFT-CDO-ALLDAYEVENT:TRUE
DTSTAMP:20260421T223217Z
END:VEVENT
END:VCALENDAR