BEGIN:VCALENDAR
VERSION:2.0
PRODID:Município - Feira do Fumeiro
X-WR-CALNAME:Município - Feira do Fumeiro
X-WR-TIMEZONE:Europe/Lisbon
X-PUBLISHED-TTL:P1W
BEGIN:VTIMEZONE
TZID:Europe/Lisbon
X-LIC-LOCATION:Europe/Lisbon
END:VTIMEZONE
BEGIN:VEVENT
UID:69e7fb65617a8
DTSTART;VALUE=DATE:20260206
SEQUENCE:0
TRANSP:OPAQUE
DTEND;VALUE=DATE:20260207
SUMMARY:Município - Feira do Fumeiro
CLASS:PUBLIC
DESCRIPTION:Atividade promovida pela Câmara Municipal de Ponte da Barca
X-MICROSOFT-CDO-ALLDAYEVENT:TRUE
DTSTAMP:20260421T223413Z
END:VEVENT
END:VCALENDAR