BEGIN:VCALENDAR
VERSION:2.0
PRODID:Páscoa - Compasso Pascal
X-WR-CALNAME:Páscoa - Compasso Pascal
X-WR-TIMEZONE:Europe/Lisbon
X-PUBLISHED-TTL:P1W
BEGIN:VTIMEZONE
TZID:Europe/Lisbon
X-LIC-LOCATION:Europe/Lisbon
END:VTIMEZONE
BEGIN:VEVENT
UID:69e7fb1018de3
DTSTART;VALUE=DATE:20260406
SEQUENCE:0
TRANSP:OPAQUE
DTEND;VALUE=DATE:20260407
SUMMARY:Páscoa - Compasso Pascal
CLASS:PUBLIC
DESCRIPTION:Compasso Pascal - Visita às habitações
X-MICROSOFT-CDO-ALLDAYEVENT:TRUE
DTSTAMP:20260421T223248Z
END:VEVENT
END:VCALENDAR