BEGIN:VCALENDAR
VERSION:2.0
PRODID:Eleições Presidênciais - 2.ª Volta
X-WR-CALNAME:Eleições Presidênciais - 2.ª Volta
X-WR-TIMEZONE:Europe/Lisbon
X-PUBLISHED-TTL:P1W
BEGIN:VTIMEZONE
TZID:Europe/Lisbon
X-LIC-LOCATION:Europe/Lisbon
END:VTIMEZONE
BEGIN:VEVENT
UID:69e7fc429bf06
DTSTART;VALUE=DATE:20260208
SEQUENCE:0
TRANSP:OPAQUE
DTEND;VALUE=DATE:20260209
SUMMARY:Eleições Presidênciais - 2.ª Volta
CLASS:PUBLIC
DESCRIPTION:Secção 1 -&nbsp\; Rua de S. João Baptista\, N.762&nbsp\;&nbs
 p\;&nbsp\;&nbsp\;&nbsp\;&nbsp\;&nbsp\;&nbsp\;&nbsp\;&nbsp\;&nbsp\;&nbsp\;&
 nbsp\;&nbsp\;&nbsp\;&nbsp\;&nbsp\;&nbsp\;&nbsp\;&nbsp\;&nbsp\; &nbsp\; 498
 0-744 VILA CHA (S J BAPTISTA)Secção 2 - Estrada de Santiago\, N.2045&nbs
 p\;&nbsp\;&nbsp\;&nbsp\;&nbsp\;&nbsp\;&nbsp\;&nbsp\;&nbsp\;&nbsp\;&nbsp\;&
 nbsp\;&nbsp\;&nbsp\;&nbsp\;&nbsp\;&nbsp\; &nbsp\; 4980-735 VILA CHA (SANTI
 AGO)
X-MICROSOFT-CDO-ALLDAYEVENT:TRUE
DTSTAMP:20260421T223754Z
END:VEVENT
END:VCALENDAR