BEGIN:VCALENDAR
VERSION:2.0
PRODID:Festa do Sr. dos Milagres e N.ª Sr.ª das Dores
X-WR-CALNAME:Festa do Sr. dos Milagres e N.ª Sr.ª das Dores
X-WR-TIMEZONE:Europe/Lisbon
X-PUBLISHED-TTL:P1W
BEGIN:VTIMEZONE
TZID:Europe/Lisbon
X-LIC-LOCATION:Europe/Lisbon
END:VTIMEZONE
BEGIN:VEVENT
UID:69e7e7a10d419
DTSTART;VALUE=DATE:20260814
SEQUENCE:0
TRANSP:OPAQUE
DTEND;VALUE=DATE:20260815
SUMMARY:Festa do Sr. dos Milagres e N.ª Sr.ª das Dores
CLASS:PUBLIC
DESCRIPTION:* O programa ainda não está disponível* * Data não confirma
 da
X-MICROSOFT-CDO-ALLDAYEVENT:TRUE
DTSTAMP:20260421T210953Z
END:VEVENT
END:VCALENDAR