BEGIN:VCALENDAR
VERSION:2.0
PRODID:Festa de N.ª Sr.ª de Fátima
X-WR-CALNAME:Festa de N.ª Sr.ª de Fátima
X-WR-TIMEZONE:Europe/Lisbon
X-PUBLISHED-TTL:P1W
BEGIN:VTIMEZONE
TZID:Europe/Lisbon
X-LIC-LOCATION:Europe/Lisbon
END:VTIMEZONE
BEGIN:VEVENT
UID:69e7fb6531415
DTSTART;VALUE=DATE:20260816
SEQUENCE:0
TRANSP:OPAQUE
DTEND;VALUE=DATE:20260817
SUMMARY:Festa de N.ª Sr.ª de Fátima
CLASS:PUBLIC
DESCRIPTION:Festa em honra de Nossa Senhora de Fátima com as Comunhões em
  Vila Chã S. João Baptista
X-MICROSOFT-CDO-ALLDAYEVENT:TRUE
DTSTAMP:20260421T223413Z
END:VEVENT
END:VCALENDAR