BEGIN:VCALENDAR
VERSION:2.0
PRODID:Magusto - Santiago
X-WR-CALNAME:Magusto - Santiago
X-WR-TIMEZONE:Europe/Lisbon
X-PUBLISHED-TTL:P1W
BEGIN:VTIMEZONE
TZID:Europe/Lisbon
X-LIC-LOCATION:Europe/Lisbon
END:VTIMEZONE
BEGIN:VEVENT
UID:69e7fb8a26044
DTSTART;VALUE=DATE:20251116
SEQUENCE:0
TRANSP:OPAQUE
DTEND;VALUE=DATE:20251117
SUMMARY:Magusto - Santiago
CLASS:PUBLIC
DESCRIPTION:Na sede da Junta de Freguesia em Santiago.
X-MICROSOFT-CDO-ALLDAYEVENT:TRUE
DTSTAMP:20260421T223450Z
END:VEVENT
END:VCALENDAR