BEGIN:VCALENDAR
VERSION:2.0
PRODID:Festa de S. Sebastião
X-WR-CALNAME:Festa de S. Sebastião
X-WR-TIMEZONE:Europe/Lisbon
X-PUBLISHED-TTL:P1W
BEGIN:VTIMEZONE
TZID:Europe/Lisbon
X-LIC-LOCATION:Europe/Lisbon
END:VTIMEZONE
BEGIN:VEVENT
UID:69e7fb4586136
DTSTART;VALUE=DATE:20260118
SEQUENCE:0
TRANSP:OPAQUE
DTEND;VALUE=DATE:20260119
SUMMARY:Festa de S. Sebastião
CLASS:PUBLIC
DESCRIPTION:Missa - 14h00
X-MICROSOFT-CDO-ALLDAYEVENT:TRUE
DTSTAMP:20260421T223341Z
END:VEVENT
END:VCALENDAR