BEGIN:VCALENDAR
VERSION:2.0
PRODID:Romaria de S. Bartolomeu
X-WR-CALNAME:Romaria de S. Bartolomeu
X-WR-TIMEZONE:Europe/Lisbon
X-PUBLISHED-TTL:P1W
BEGIN:VTIMEZONE
TZID:Europe/Lisbon
X-LIC-LOCATION:Europe/Lisbon
END:VTIMEZONE
BEGIN:VEVENT
UID:69e7e7a1e6e15
DTSTART;VALUE=DATE:20260818
SEQUENCE:0
TRANSP:OPAQUE
DTEND;VALUE=DATE:20260819
SUMMARY:Romaria de S. Bartolomeu
CLASS:PUBLIC
DESCRIPTION:Festas do Concelho - Romaria de S. Bartolomeu
X-MICROSOFT-CDO-ALLDAYEVENT:TRUE
DTSTAMP:20260421T210953Z
END:VEVENT
END:VCALENDAR