BEGIN:VCALENDAR
VERSION:2.0
PRODID:Festa de St.ª Marinha e St.º Ovídeo
X-WR-CALNAME:Festa de St.ª Marinha e St.º Ovídeo
X-WR-TIMEZONE:Europe/Lisbon
X-PUBLISHED-TTL:P1W
BEGIN:VTIMEZONE
TZID:Europe/Lisbon
X-LIC-LOCATION:Europe/Lisbon
END:VTIMEZONE
BEGIN:VEVENT
UID:69e7e9a9354ec
DTSTART;VALUE=DATE:20260719
SEQUENCE:0
TRANSP:OPAQUE
DTEND;VALUE=DATE:20260720
SUMMARY:Festa de St.ª Marinha e St.º Ovídeo
CLASS:PUBLIC
DESCRIPTION:* O programa ainda não está disponível* * Data não confirma
 da
X-MICROSOFT-CDO-ALLDAYEVENT:TRUE
DTSTAMP:20260421T211833Z
END:VEVENT
END:VCALENDAR