BEGIN:VCALENDAR
VERSION:2.0
PRODID:Festa de Natal
X-WR-CALNAME:Festa de Natal
X-WR-TIMEZONE:Europe/Lisbon
X-PUBLISHED-TTL:P1W
BEGIN:VTIMEZONE
TZID:Europe/Lisbon
X-LIC-LOCATION:Europe/Lisbon
END:VTIMEZONE
BEGIN:VEVENT
UID:69e7e7a0d01df
DTSTART;VALUE=DATE:20261220
SEQUENCE:0
TRANSP:OPAQUE
DTEND;VALUE=DATE:20261221
SUMMARY:Festa de Natal
CLASS:PUBLIC
DESCRIPTION:* O programa ainda não está disponível
X-MICROSOFT-CDO-ALLDAYEVENT:TRUE
DTSTAMP:20260421T210952Z
END:VEVENT
END:VCALENDAR