BEGIN:VCALENDAR
VERSION:2.0
PRODID:Festa de S. João Baptista
X-WR-CALNAME:Festa de S. João Baptista
X-WR-TIMEZONE:Europe/Lisbon
X-PUBLISHED-TTL:P1W
BEGIN:VTIMEZONE
TZID:Europe/Lisbon
X-LIC-LOCATION:Europe/Lisbon
END:VTIMEZONE
BEGIN:VEVENT
UID:69e7462fafd1b
DTSTART;VALUE=DATE:20260628
SEQUENCE:0
TRANSP:OPAQUE
DTEND;VALUE=DATE:20260629
SUMMARY:Festa de S. João Baptista
CLASS:PUBLIC
DESCRIPTION:* O programa ainda não está disponível* * Data não confirma
 da
X-MICROSOFT-CDO-ALLDAYEVENT:TRUE
DTSTAMP:20260421T094103Z
END:VEVENT
END:VCALENDAR