BEGIN:VCALENDAR
VERSION:2.0
PRODID:Magusto - S. João
X-WR-CALNAME:Magusto - S. João
X-WR-TIMEZONE:Europe/Lisbon
X-PUBLISHED-TTL:P1W
BEGIN:VTIMEZONE
TZID:Europe/Lisbon
X-LIC-LOCATION:Europe/Lisbon
END:VTIMEZONE
BEGIN:VEVENT
UID:69e7fb45b54e2
DTSTART;VALUE=DATE:20251130
SEQUENCE:0
TRANSP:OPAQUE
DTEND;VALUE=DATE:20251201
SUMMARY:Magusto - S. João
CLASS:PUBLIC
DESCRIPTION:Na sede da Junta de Freguesia em S. João
X-MICROSOFT-CDO-ALLDAYEVENT:TRUE
DTSTAMP:20260421T223341Z
END:VEVENT
END:VCALENDAR